BEGIN:VCALENDAR
VERSION:2.0
PRODID:-//eventon.com NONSGML v1.0//EN
CALSCALE:GREGORIAN
METHOD:PUBLISH
BEGIN:VEVENT
UID:69e5fb314ae7c
DTSTAMP:20260420T100849Z
DTSTART:20220328
DTEND:20220329
LOCATION:
SUMMARY:Uniform Day
DESCRIPTION:Uniform Day\nhttps://mulberryhouseschool.com/news/events/unifor
 m-day/
URL:https://mulberryhouseschool.com/news/events/uniform-day/
END:VEVENT
END:VCALENDAR